BEGIN:VCALENDAR
VERSION:2.0
PRODID:-//Indian Center In Netherlands - ECPv6.15.20//NONSGML v1.0//EN
CALSCALE:GREGORIAN
METHOD:PUBLISH
X-WR-CALNAME:Indian Center In Netherlands
X-ORIGINAL-URL:https://indiansinnl.nl
X-WR-CALDESC:Events for Indian Center In Netherlands
REFRESH-INTERVAL;VALUE=DURATION:PT1H
X-Robots-Tag:noindex
X-PUBLISHED-TTL:PT1H
BEGIN:VTIMEZONE
TZID:UTC
BEGIN:STANDARD
TZOFFSETFROM:+0000
TZOFFSETTO:+0000
TZNAME:UTC
DTSTART:20250101T000000
END:STANDARD
END:VTIMEZONE
BEGIN:VEVENT
DTSTART;TZID=UTC:20260124T150000
DTEND;TZID=UTC:20260627T160000
DTSTAMP:20260421T043741
CREATED:20260128T113722Z
LAST-MODIFIED:20260128T115247Z
UID:16224-1769266800-1782576000@indiansinnl.nl
SUMMARY:Indian Language Storytelling in Eindhoven and Veldhoven
DESCRIPTION:Indian Language Storytelling for Children\nThe Indian Center in the Netherlands (ICIN)\, in collaboration with the Eindhoven Library and Veldhoven Library\, and with the support of dedicated volunteers\, is launching Indian Language Storytelling sessions. \nStorytelling sessions will take place every weekend at both locations. Each session will feature stories in a different Indian language. Please refer to the table below for the schedule\, dates\, languages\, and locations. \nParticipation is free of charge\, however registration is mandatory. \nLanguages Planned\nThe following languages are currently planned: \nOrganized by ICIN:Hindi\, Tamil\, Kannada\, Telugu\, Malayalam\, Gujarati\, Odia \nOrganized by Indian individual volunteers:Hindi\, Bengali\, Marathi\n(These sessions are led by enthusiastic Indian women volunteers at both locations.) \nActivities for Children\nBefore each storytelling session\, there will be fun play activities for children to help them feel engaged\, happy\, and ready to enjoy the stories. \nLocation: Eindhoven Library\nDe Bibliotheek Eindhoven\nEmmasingel 22\, 5611 XP Eindhoven \nRegistration Link: https://eindhoven.op-shop.nl/ \nThe provided link is a shared link for all events. Please scroll through the list or navigate to the date of our event to find the correct session and book your ticket. \nPlease note: To register\, select “Indian Book Reading” from the event list on the relevant date. \n\n\n\nMonth\nDate\nEindhoven Library Time\nLanguage\n\n\nJan\n24th\n3:00 to 4:00pm\nKannada\n\n\nJan\n31st\n3:00 to 4:00pm\nTamil\n\n\nFeb\n28th\n3:00 to 4:00pm\nHindi\n\n\nMar\n14th\n3:00 to 4:00pm\nGujarati\n\n\nMar\n28th\n3:00 to 4:00pm\nMalayalam\n\n\nApr\n4th\n3:00 to 4:00pm\nTelugu\n\n\nApr\n11th\n3:00 to 4:00pm\nOdia\n\n\nApr\n18th\n3:00 to 4:00pm\nMarathi\n\n\nMay\n16th\n3:00 to 4:00pm\nKannada\n\n\nMay\n30th\n3:00 to 4:00pm\nBengali\n\n\nJun\n20th\n3:00 to 4:00pm\nMarathi\n\n\nJun\n27th\n3:00 to 4:00pm\nTamil\n\n\n\nLocation: Veldhoven Library\nBibliotheek Veldhoven\nMeiveld 2\, 5501 LA Veldhoven\n \nRegistration Link: https://www.bibliotheekveldhoven.nl/actueel/agenda/storytelling-from-india1.31012026.html \n\n\n\nMonth\nDate\nVeldhoven Library Time\nLanguage\n\n\nJan\n24th\n3:30 to 4:30pm\nHindi\n\n\nJan\n31st\n3:30 to 4:30pm\nMarathi\n\n\nFeb\n7th\n3:30 to 4:30pm\nTelugu\n\n\nFeb\n28th\n3:30 to 4:30pm\nBengali\n\n\nMar\n21st\n3:30 to 4:30pm\nKannada\n\n\nMar\n28th\n3:30 to 4:30pm\nHindi\n\n\nApr\n4th\n3:30 to 4:30pm\nBengali\n\n\nApr\n18th\n3:30 to 4:30pm\nTamil\n\n\nMay\n16th\n3:30 to 4:30pm\nHindi\n\n\nJun\n6th\n3:30 to 4:30pm\nGujarati\n\n\nJun\n20th\n3:30 to 4:30pm\nMalayalam\n\n\nJun\n27th\n3:30 to 4:30pm\nHindi
URL:https://indiansinnl.nl/event/indian-language-storytelling-in-eindhoven-and-veldhoven/
LOCATION:Utrecht
CATEGORIES:Events
ATTACH;FMTTYPE=image/png:https://indiansinnl.nl/wp-content/uploads/2026/01/Storytelling-Presentation.png
ORGANIZER;CN="Indian Center in Netherlands (ICIN)":MAILTO:indiancenterinnl@gmail.com
END:VEVENT
END:VCALENDAR